BEGIN:VCALENDAR
PRODID:-//Microsoft Corporation//OutlookMIMEDIR//EN
VERSION:1.0
BEGIN:VEVENT
DTSTART:20240210T230500Z
DTEND:20240211T225500Z
LOCATION:Scuol (GR), Suisse
SUMMARY;ENCODING=QUOTED-PRINTABLE:=
Passlung, Unterengadin
DESCRIPTION;ENCODING=QUOTED-PRINTABLE:=
Datasport: https://www.datasport.com/go/evt261009
PRIORITY:2
URL:https://www.datasport.com/go/evt261009
END:VEVENT
END:VCALENDAR
