BEGIN:VCALENDAR
PRODID:-//Microsoft Corporation//OutlookMIMEDIR//EN
VERSION:1.0
BEGIN:VEVENT
DTSTART:20240106T230500Z
DTEND:20240331T215500Z
LOCATION: (), Suisse
SUMMARY;ENCODING=QUOTED-PRINTABLE:=
Swiss Loppet Gesamtwertung
DESCRIPTION;ENCODING=QUOTED-PRINTABLE:=
Datasport: https://www.datasport.com/go/evt261103
PRIORITY:2
URL:https://www.datasport.com/go/evt261103
END:VEVENT
END:VCALENDAR
