BEGIN:VCALENDAR
PRODID:-//Microsoft Corporation//OutlookMIMEDIR//EN
VERSION:1.0
BEGIN:VEVENT
DTSTART:20240203T230500Z
DTEND:20240204T225500Z
LOCATION:Biel-Benken BL (BL), Suisse
SUMMARY;ENCODING=QUOTED-PRINTABLE:=
SuperCross, Biel-Benken
DESCRIPTION;ENCODING=QUOTED-PRINTABLE:=
Datasport: https://www.datasport.com/go/evt261159
PRIORITY:2
URL:https://www.datasport.com/go/evt261159
END:VEVENT
END:VCALENDAR
