BEGIN:VCALENDAR
PRODID:-//Microsoft Corporation//OutlookMIMEDIR//EN
VERSION:1.0
BEGIN:VEVENT
DTSTART:20240119T230500Z
DTEND:20240413T215500Z
LOCATION: (), Suisse
SUMMARY;ENCODING=QUOTED-PRINTABLE:=
Super-Drei Volksabfahrten
DESCRIPTION;ENCODING=QUOTED-PRINTABLE:=
Datasport: https://www.datasport.com/go/evt261179
PRIORITY:2
URL:https://www.datasport.com/go/evt261179
END:VEVENT
END:VCALENDAR
