BEGIN:VCALENDAR
PRODID:-//Microsoft Corporation//OutlookMIMEDIR//EN
VERSION:1.0
BEGIN:VEVENT
DTSTART:20240301T230500Z
DTEND:20240302T225500Z
LOCATION:Samedan (GR), Suisse
SUMMARY;ENCODING=QUOTED-PRINTABLE:=
Engadin Jugendsprint, Samedan
DESCRIPTION;ENCODING=QUOTED-PRINTABLE:=
Datasport: https://www.datasport.com/go/evt261180
PRIORITY:2
URL:https://www.datasport.com/go/evt261180
END:VEVENT
END:VCALENDAR
