BEGIN:VCALENDAR
PRODID:-//Microsoft Corporation//OutlookMIMEDIR//EN
VERSION:1.0
BEGIN:VEVENT
DTSTART:20240208T230500Z
DTEND:20240216T225500Z
LOCATION: ()
SUMMARY;ENCODING=QUOTED-PRINTABLE:=
Masters World Cup
DESCRIPTION;ENCODING=QUOTED-PRINTABLE:=
Datasport: https://www.datasport.com/go/evt26667
PRIORITY:2
URL:https://www.datasport.com/go/evt26667
END:VEVENT
END:VCALENDAR
