BEGIN:VCALENDAR
PRODID:-//Microsoft Corporation//OutlookMIMEDIR//EN
VERSION:1.0
BEGIN:VEVENT
DTSTART:20240217T230500Z
DTEND:20240218T225500Z
LOCATION:Rothenthurm (SZ), Suisse
SUMMARY;ENCODING=QUOTED-PRINTABLE:=
Rothenthurmer Volksskilauf
DESCRIPTION;ENCODING=QUOTED-PRINTABLE:=
Datasport: https://www.datasport.com/go/evt26702
PRIORITY:2
URL:https://www.datasport.com/go/evt26702
END:VEVENT
END:VCALENDAR
