BEGIN:VCALENDAR
PRODID:-//Microsoft Corporation//OutlookMIMEDIR//EN
VERSION:1.0
BEGIN:VEVENT
DTSTART:20240223T230500Z
DTEND:20240225T225500Z
LOCATION:Ulrichen (VS), Suisse
SUMMARY;ENCODING=QUOTED-PRINTABLE:=
Gommerlauf, Ulrichen
DESCRIPTION;ENCODING=QUOTED-PRINTABLE:=
Datasport: https://www.datasport.com/go/evt26704
PRIORITY:2
URL:https://www.datasport.com/go/evt26704
END:VEVENT
END:VCALENDAR
