BEGIN:VCALENDAR
PRODID:-//Microsoft Corporation//OutlookMIMEDIR//EN
VERSION:1.0
BEGIN:VEVENT
DTSTART:20240209T230500Z
DTEND:20240211T225500Z
LOCATION:Einsiedeln (SZ), Suisse
SUMMARY;ENCODING=QUOTED-PRINTABLE:=
Einsiedler Skimarathon, Einsiedeln
DESCRIPTION;ENCODING=QUOTED-PRINTABLE:=
Datasport: https://www.datasport.com/go/evt26706
PRIORITY:2
URL:https://www.datasport.com/go/evt26706
END:VEVENT
END:VCALENDAR
