BEGIN:VCALENDAR
PRODID:-//Microsoft Corporation//OutlookMIMEDIR//EN
VERSION:1.0
BEGIN:VEVENT
DTSTART:20240216T230500Z
DTEND:20240218T225500Z
LOCATION:Olang (TAA), Italie
SUMMARY;ENCODING=QUOTED-PRINTABLE:=
Gsieser Tal-Lauf - Gran Fondo Val Casies, S=FCdtirol (I)
DESCRIPTION;ENCODING=QUOTED-PRINTABLE:=
Datasport: https://www.datasport.com/go/evt26915
PRIORITY:2
URL:https://www.datasport.com/go/evt26915
END:VEVENT
END:VCALENDAR
