BEGIN:VCALENDAR
PRODID:-//Microsoft Corporation//OutlookMIMEDIR//EN
VERSION:1.0
BEGIN:VEVENT
DTSTART:20191108T230500Z
DTEND:20191109T225500Z
LOCATION:Kyburg (ZH), Schweiz
SUMMARY;ENCODING=QUOTED-PRINTABLE:=
Kyburglauf
DESCRIPTION;ENCODING=QUOTED-PRINTABLE:=
Datasport: https://www.datasport.com/go/evt21163
PRIORITY:2
URL:https://www.datasport.com/go/evt21163
END:VEVENT
END:VCALENDAR
