BEGIN:VCALENDAR
PRODID:-//Microsoft Corporation//OutlookMIMEDIR//EN
VERSION:1.0
BEGIN:VEVENT
DTSTART:20190831T220500Z
DTEND:20190901T215500Z
LOCATION:S=F6lden (T), =D6sterreich
SUMMARY;ENCODING=QUOTED-PRINTABLE:=
=D6tztaler Radmarathon, S=F6lden (A)
DESCRIPTION;ENCODING=QUOTED-PRINTABLE:=
Datasport: https://www.datasport.com/go/evt21423
PRIORITY:2
URL:https://www.datasport.com/go/evt21423
END:VEVENT
END:VCALENDAR
