BEGIN:VCALENDAR
PRODID:-//Microsoft Corporation//OutlookMIMEDIR//EN
VERSION:1.0
BEGIN:VEVENT
DTSTART:20190615T220500Z
DTEND:20190616T215500Z
LOCATION:Latsch (GR), Schweiz
SUMMARY;ENCODING=QUOTED-PRINTABLE:=
Alpen Challenge, Lenzerheide
DESCRIPTION;ENCODING=QUOTED-PRINTABLE:=
Datasport: https://www.datasport.com/go/evt21458
PRIORITY:2
URL:https://www.datasport.com/go/evt21458
END:VEVENT
END:VCALENDAR
