BEGIN:VCALENDAR
PRODID:-//Microsoft Corporation//OutlookMIMEDIR//EN
VERSION:1.0
BEGIN:VEVENT
DTSTART:20190817T220500Z
DTEND:20190818T215500Z
LOCATION:Neuhausen am Rheinfall (SH), Schweiz
SUMMARY;ENCODING=QUOTED-PRINTABLE:=
Rheinfall-Lauf, Neuhausen
DESCRIPTION;ENCODING=QUOTED-PRINTABLE:=
Datasport: https://www.datasport.com/go/evt21922
PRIORITY:2
URL:https://www.datasport.com/go/evt21922
END:VEVENT
END:VCALENDAR
