BEGIN:VCALENDAR
PRODID:-//Microsoft Corporation//OutlookMIMEDIR//EN
VERSION:1.0
BEGIN:VEVENT
DTSTART:20190621T220500Z
DTEND:20190623T215500Z
LOCATION:Bettmeralp (VS), Schweiz
SUMMARY;ENCODING=QUOTED-PRINTABLE:=
Aletsch-Halbmarathon, Bettmeralp
DESCRIPTION;ENCODING=QUOTED-PRINTABLE:=
Datasport: https://www.datasport.com/go/evt21933
PRIORITY:2
URL:https://www.datasport.com/go/evt21933
END:VEVENT
END:VCALENDAR
