BEGIN:VCALENDAR
PRODID:-//Microsoft Corporation//OutlookMIMEDIR//EN
VERSION:1.0
BEGIN:VEVENT
DTSTART:20181130T230500Z
DTEND:20181201T225500Z
LOCATION:Gossau SG (SG), Switzerland
SUMMARY;ENCODING=QUOTED-PRINTABLE:=
Gossauer Weihnachtslauf
DESCRIPTION;ENCODING=QUOTED-PRINTABLE:=
Datasport: https://www.datasport.com/go/evt20167
PRIORITY:2
URL:https://www.datasport.com/go/evt20167
END:VEVENT
END:VCALENDAR
