BEGIN:VCALENDAR
PRODID:-//Microsoft Corporation//OutlookMIMEDIR//EN
VERSION:1.0
BEGIN:VEVENT
DTSTART:20181207T230500Z
DTEND:20181208T225500Z
LOCATION:Sion (VS), Switzerland
SUMMARY;ENCODING=QUOTED-PRINTABLE:=
Course de No=EBl, Sion
DESCRIPTION;ENCODING=QUOTED-PRINTABLE:=
Datasport: https://www.datasport.com/go/evt20168
PRIORITY:2
URL:https://www.datasport.com/go/evt20168
END:VEVENT
END:VCALENDAR
