BEGIN:VCALENDAR
PRODID:-//Microsoft Corporation//OutlookMIMEDIR//EN
VERSION:1.0
BEGIN:VEVENT
DTSTART:20181230T230500Z
DTEND:20181231T225500Z
LOCATION:Leuggern (AG), Switzerland
SUMMARY;ENCODING=QUOTED-PRINTABLE:=
Gippinger Stauseelauf
DESCRIPTION;ENCODING=QUOTED-PRINTABLE:=
Datasport: https://www.datasport.com/go/evt20170
PRIORITY:2
URL:https://www.datasport.com/go/evt20170
END:VEVENT
END:VCALENDAR
