BEGIN:VCALENDAR
PRODID:-//Microsoft Corporation//OutlookMIMEDIR//EN
VERSION:1.0
BEGIN:VEVENT
DTSTART:20191011T220500Z
DTEND:20191012T215500Z
LOCATION:Beinwil am See (AG), Switzerland
SUMMARY;ENCODING=QUOTED-PRINTABLE:=
Hallwilerseelauf, Beinwil am See
DESCRIPTION;ENCODING=QUOTED-PRINTABLE:=
Datasport: https://www.datasport.com/go/evt21154
PRIORITY:2
URL:https://www.datasport.com/go/evt21154
END:VEVENT
END:VCALENDAR
