BEGIN:VCALENDAR
PRODID:-//Microsoft Corporation//OutlookMIMEDIR//EN
VERSION:1.0
BEGIN:VEVENT
DTSTART:20191102T230500Z
DTEND:20191103T225500Z
LOCATION:Wabern (BE), Switzerland
SUMMARY;ENCODING=QUOTED-PRINTABLE:=
gurtenCLASSIC, Wabern
DESCRIPTION;ENCODING=QUOTED-PRINTABLE:=
Datasport: https://www.datasport.com/go/evt21160
PRIORITY:2
URL:https://www.datasport.com/go/evt21160
END:VEVENT
END:VCALENDAR
