BEGIN:VCALENDAR
PRODID:-//Microsoft Corporation//OutlookMIMEDIR//EN
VERSION:1.0
BEGIN:VEVENT
DTSTART:20191026T220500Z
DTEND:20191027T225500Z
LOCATION:Luzern (LU), Switzerland
SUMMARY;ENCODING=QUOTED-PRINTABLE:=
SwissCityMarathon - Lucerne, Luzern
DESCRIPTION;ENCODING=QUOTED-PRINTABLE:=
Datasport: https://www.datasport.com/go/evt21248
PRIORITY:2
URL:https://www.datasport.com/go/evt21248
END:VEVENT
END:VCALENDAR
