BEGIN:VCALENDAR
PRODID:-//Microsoft Corporation//OutlookMIMEDIR//EN
VERSION:1.0
BEGIN:VEVENT
DTSTART:20190706T220500Z
DTEND:20190707T215500Z
LOCATION:Zernez (GR), Switzerland
SUMMARY;ENCODING=QUOTED-PRINTABLE:=
Engadin Radmarathon, Zernez
DESCRIPTION;ENCODING=QUOTED-PRINTABLE:=
Datasport: https://www.datasport.com/go/evt21270
PRIORITY:2
URL:https://www.datasport.com/go/evt21270
END:VEVENT
END:VCALENDAR
