BEGIN:VCALENDAR
PRODID:-//Microsoft Corporation//OutlookMIMEDIR//EN
VERSION:1.0
BEGIN:VEVENT
DTSTART:20190712T220500Z
DTEND:20190714T215500Z
LOCATION:Niederdorf (TAA), Italy
SUMMARY;ENCODING=QUOTED-PRINTABLE:=
S=FCdtirol Dolomiti Superbike, Villabassa (I)
DESCRIPTION;ENCODING=QUOTED-PRINTABLE:=
Datasport: https://www.datasport.com/go/evt21301
PRIORITY:2
URL:https://www.datasport.com/go/evt21301
END:VEVENT
END:VCALENDAR
