BEGIN:VCALENDAR
PRODID:-//Microsoft Corporation//OutlookMIMEDIR//EN
VERSION:1.0
BEGIN:VEVENT
DTSTART:20190921T220500Z
DTEND:20190922T215500Z
LOCATION:Einsiedeln (SZ), Switzerland
SUMMARY;ENCODING=QUOTED-PRINTABLE:=
Iron Bike Race, Einsiedeln
DESCRIPTION;ENCODING=QUOTED-PRINTABLE:=
Datasport: https://www.datasport.com/go/evt21324
PRIORITY:2
URL:https://www.datasport.com/go/evt21324
END:VEVENT
END:VCALENDAR
