BEGIN:VCALENDAR
PRODID:-//Microsoft Corporation//OutlookMIMEDIR//EN
VERSION:1.0
BEGIN:VEVENT
DTSTART:20190906T220500Z
DTEND:20190908T215500Z
LOCATION:Zofingen (AG), Switzerland
SUMMARY;ENCODING=QUOTED-PRINTABLE:=
Powerman World Championships Zofingen
DESCRIPTION;ENCODING=QUOTED-PRINTABLE:=
Datasport: https://www.datasport.com/go/evt21556
PRIORITY:2
URL:https://www.datasport.com/go/evt21556
END:VEVENT
END:VCALENDAR
