BEGIN:VCALENDAR
PRODID:-//Microsoft Corporation//OutlookMIMEDIR//EN
VERSION:1.0
BEGIN:VEVENT
DTSTART:20190730T220500Z
DTEND:20190803T215500Z
LOCATION:Ischgl (T), Austria
SUMMARY;ENCODING=QUOTED-PRINTABLE:=
Ischgl Ironbike, Ischgl (A)
DESCRIPTION;ENCODING=QUOTED-PRINTABLE:=
Datasport: https://www.datasport.com/go/evt21714
PRIORITY:2
URL:https://www.datasport.com/go/evt21714
END:VEVENT
END:VCALENDAR
