BEGIN:VCALENDAR
PRODID:-//Microsoft Corporation//OutlookMIMEDIR//EN
VERSION:1.0
BEGIN:VEVENT
DTSTART:20190718T220500Z
DTEND:20190721T215500Z
LOCATION:Grindelwald (BE), Switzerland
SUMMARY;ENCODING=QUOTED-PRINTABLE:=
Eiger Ultra Trail by UTMB, Grindelwald
DESCRIPTION;ENCODING=QUOTED-PRINTABLE:=
Datasport: https://www.datasport.com/go/evt21798
PRIORITY:2
URL:https://www.datasport.com/go/evt21798
END:VEVENT
END:VCALENDAR
