BEGIN:VCALENDAR
PRODID:-//Microsoft Corporation//OutlookMIMEDIR//EN
VERSION:1.0
BEGIN:VEVENT
DTSTART:20181214T230500Z
DTEND:20181215T225500Z
LOCATION:Lausanne (VD), Suisse
SUMMARY;ENCODING=QUOTED-PRINTABLE:=
Christmas Run, Lausanne
DESCRIPTION;ENCODING=QUOTED-PRINTABLE:=
Datasport: https://www.datasport.com/go/evt20157
PRIORITY:2
URL:https://www.datasport.com/go/evt20157
END:VEVENT
END:VCALENDAR
