BEGIN:VCALENDAR
PRODID:-//Microsoft Corporation//OutlookMIMEDIR//EN
VERSION:1.0
BEGIN:VEVENT
DTSTART:20181201T230500Z
DTEND:20181202T225500Z
LOCATION:Basel (BS), Suisse
SUMMARY;ENCODING=QUOTED-PRINTABLE:=
Allschwiler Klausenlauf
DESCRIPTION;ENCODING=QUOTED-PRINTABLE:=
Datasport: https://www.datasport.com/go/evt20885
PRIORITY:2
URL:https://www.datasport.com/go/evt20885
END:VEVENT
END:VCALENDAR
