BEGIN:VCALENDAR
PRODID:-//Microsoft Corporation//OutlookMIMEDIR//EN
VERSION:1.0
BEGIN:VEVENT
DTSTART:20171231T230500Z
DTEND:20180101T225500Z
LOCATION:Schlieren (ZH), Suisse
SUMMARY;ENCODING=QUOTED-PRINTABLE:=
Neujahrsmarathon Z=FCrich, Schlieren
DESCRIPTION;ENCODING=QUOTED-PRINTABLE:=
Datasport: https://www.datasport.com/go/evt20958
PRIORITY:2
URL:https://www.datasport.com/go/evt20958
END:VEVENT
END:VCALENDAR
