BEGIN:VCALENDAR
PRODID:-//Microsoft Corporation//OutlookMIMEDIR//EN
VERSION:1.0
BEGIN:VEVENT
DTSTART:20191004T220500Z
DTEND:20191006T215500Z
LOCATION:Murten (FR), Suisse
SUMMARY;ENCODING=QUOTED-PRINTABLE:=
Morat-Fribourg
DESCRIPTION;ENCODING=QUOTED-PRINTABLE:=
Datasport: https://www.datasport.com/go/evt21109
PRIORITY:2
URL:https://www.datasport.com/go/evt21109
END:VEVENT
END:VCALENDAR
