BEGIN:VCALENDAR
PRODID:-//Microsoft Corporation//OutlookMIMEDIR//EN
VERSION:1.0
BEGIN:VEVENT
DTSTART:20191129T230500Z
DTEND:20191130T225500Z
LOCATION:Basel (BS), Suisse
SUMMARY;ENCODING=QUOTED-PRINTABLE:=
Basler Stadtlauf
DESCRIPTION;ENCODING=QUOTED-PRINTABLE:=
Datasport: https://www.datasport.com/go/evt21111
PRIORITY:2
URL:https://www.datasport.com/go/evt21111
END:VEVENT
END:VCALENDAR
