BEGIN:VCALENDAR
PRODID:-//Microsoft Corporation//OutlookMIMEDIR//EN
VERSION:1.0
BEGIN:VEVENT
DTSTART:20190614T220500Z
DTEND:20190615T215500Z
LOCATION:Gamprin-Bendern (FL), Liechtenstein
SUMMARY;ENCODING=QUOTED-PRINTABLE:=
LGT Alpin Marathon, Liechtenstein
DESCRIPTION;ENCODING=QUOTED-PRINTABLE:=
Datasport: https://www.datasport.com/go/evt21181
PRIORITY:2
URL:https://www.datasport.com/go/evt21181
END:VEVENT
END:VCALENDAR
