BEGIN:VCALENDAR
PRODID:-//Microsoft Corporation//OutlookMIMEDIR//EN
VERSION:1.0
BEGIN:VEVENT
DTSTART:20190820T220500Z
DTEND:20190821T215500Z
LOCATION:Utzenstorf (BE), Suisse
SUMMARY;ENCODING=QUOTED-PRINTABLE:=
EmmenLauf Utzenstorf
DESCRIPTION;ENCODING=QUOTED-PRINTABLE:=
Datasport: https://www.datasport.com/go/evt21297
PRIORITY:2
URL:https://www.datasport.com/go/evt21297
END:VEVENT
END:VCALENDAR
