BEGIN:VCALENDAR
PRODID:-//Microsoft Corporation//OutlookMIMEDIR//EN
VERSION:1.0
BEGIN:VEVENT
DTSTART:20190725T220500Z
DTEND:20190728T215500Z
LOCATION:Kaprun (SA), Autriche
SUMMARY;ENCODING=QUOTED-PRINTABLE:=
Grossglockner UltraTrail, Kaprun (A)
DESCRIPTION;ENCODING=QUOTED-PRINTABLE:=
Datasport: https://www.datasport.com/go/evt21358
PRIORITY:2
URL:https://www.datasport.com/go/evt21358
END:VEVENT
END:VCALENDAR
