BEGIN:VCALENDAR
PRODID:-//Microsoft Corporation//OutlookMIMEDIR//EN
VERSION:1.0
BEGIN:VEVENT
DTSTART:20190620T220500Z
DTEND:20190623T215500Z
LOCATION:Kirchzarten (BW), Allemagne
SUMMARY;ENCODING=QUOTED-PRINTABLE:=
Black Forest ULTRA Bike Marathon, Kirchzarten (D)
DESCRIPTION;ENCODING=QUOTED-PRINTABLE:=
Datasport: https://www.datasport.com/go/evt21370
PRIORITY:2
URL:https://www.datasport.com/go/evt21370
END:VEVENT
END:VCALENDAR
