BEGIN:VCALENDAR
PRODID:-//Microsoft Corporation//OutlookMIMEDIR//EN
VERSION:1.0
BEGIN:VEVENT
DTSTART:20190815T220500Z
DTEND:20190817T215500Z
LOCATION:M=FCrren (BE), Suisse
SUMMARY;ENCODING=QUOTED-PRINTABLE:=
Inferno Triathlon + Halbmarathon, M=FCrren
DESCRIPTION;ENCODING=QUOTED-PRINTABLE:=
Datasport: https://www.datasport.com/go/evt21532
PRIORITY:2
URL:https://www.datasport.com/go/evt21532
END:VEVENT
END:VCALENDAR
