BEGIN:VCALENDAR
PRODID:-//Microsoft Corporation//OutlookMIMEDIR//EN
VERSION:1.0
BEGIN:VEVENT
DTSTART:20190920T220500Z
DTEND:20190921T215500Z
LOCATION:Willisau (LU), Suisse
SUMMARY;ENCODING=QUOTED-PRINTABLE:=
Willisauer Lauf
DESCRIPTION;ENCODING=QUOTED-PRINTABLE:=
Datasport: https://www.datasport.com/go/evt21682
PRIORITY:2
URL:https://www.datasport.com/go/evt21682
END:VEVENT
END:VCALENDAR
