BEGIN:VCALENDAR
PRODID:-//Microsoft Corporation//OutlookMIMEDIR//EN
VERSION:1.0
BEGIN:VEVENT
DTSTART:20190622T220500Z
DTEND:20190623T215500Z
LOCATION:Bulle (FR), Suisse
SUMMARY;ENCODING=QUOTED-PRINTABLE:=
Groupe E BerGiBike, Bulle
DESCRIPTION;ENCODING=QUOTED-PRINTABLE:=
Datasport: https://www.datasport.com/go/evt21768
PRIORITY:2
URL:https://www.datasport.com/go/evt21768
END:VEVENT
END:VCALENDAR
