BEGIN:VCALENDAR
PRODID:-//Microsoft Corporation//OutlookMIMEDIR//EN
VERSION:1.0
BEGIN:VEVENT
DTSTART:20181215T230500Z
DTEND:20181216T225500Z
LOCATION:Z=FCrich (ZH), Svizzera
SUMMARY;ENCODING=QUOTED-PRINTABLE:=
Z=FCrcher Silvesterlauf, Z=FCrich
DESCRIPTION;ENCODING=QUOTED-PRINTABLE:=
Datasport: https://www.datasport.com/go/evt20192
PRIORITY:2
URL:https://www.datasport.com/go/evt20192
END:VEVENT
END:VCALENDAR
