BEGIN:VCALENDAR
PRODID:-//Microsoft Corporation//OutlookMIMEDIR//EN
VERSION:1.0
BEGIN:VEVENT
DTSTART:20191213T230500Z
DTEND:20191214T225500Z
LOCATION:Sion (VS), Svizzera
SUMMARY;ENCODING=QUOTED-PRINTABLE:=
Course de No=EBl, Sion
DESCRIPTION;ENCODING=QUOTED-PRINTABLE:=
Datasport: https://www.datasport.com/go/evt21168
PRIORITY:2
URL:https://www.datasport.com/go/evt21168
END:VEVENT
END:VCALENDAR
