BEGIN:VCALENDAR
PRODID:-//Microsoft Corporation//OutlookMIMEDIR//EN
VERSION:1.0
BEGIN:VEVENT
DTSTART:20190907T220500Z
DTEND:20190908T215500Z
LOCATION:Salzburg (SA), Austria
SUMMARY;ENCODING=QUOTED-PRINTABLE:=
Eddy Merckx Classic, Fuschl am See (A)
DESCRIPTION;ENCODING=QUOTED-PRINTABLE:=
Datasport: https://www.datasport.com/go/evt21274
PRIORITY:2
URL:https://www.datasport.com/go/evt21274
END:VEVENT
END:VCALENDAR
