BEGIN:VCALENDAR
PRODID:-//Microsoft Corporation//OutlookMIMEDIR//EN
VERSION:1.0
BEGIN:VEVENT
DTSTART:20190822T220500Z
DTEND:20190824T215500Z
LOCATION:Verbier (VS), Svizzera
SUMMARY;ENCODING=QUOTED-PRINTABLE:=
Grand Raid BCVS, Verbier/Grimentz
DESCRIPTION;ENCODING=QUOTED-PRINTABLE:=
Datasport: https://www.datasport.com/go/evt21303
PRIORITY:2
URL:https://www.datasport.com/go/evt21303
END:VEVENT
END:VCALENDAR
