BEGIN:VCALENDAR
PRODID:-//Microsoft Corporation//OutlookMIMEDIR//EN
VERSION:1.0
BEGIN:VEVENT
DTSTART:20190829T220500Z
DTEND:20190831T215500Z
LOCATION:Scuol (GR), Svizzera
SUMMARY;ENCODING=QUOTED-PRINTABLE:=
Nationalpark Bike Marathon, Scuol
DESCRIPTION;ENCODING=QUOTED-PRINTABLE:=
Datasport: https://www.datasport.com/go/evt21345
PRIORITY:2
URL:https://www.datasport.com/go/evt21345
END:VEVENT
END:VCALENDAR
