BEGIN:VCALENDAR
PRODID:-//Microsoft Corporation//OutlookMIMEDIR//EN
VERSION:1.0
BEGIN:VEVENT
DTSTART:20190809T220500Z
DTEND:20190810T215500Z
LOCATION:Gstaad (BE), Svizzera
SUMMARY;ENCODING=QUOTED-PRINTABLE:=
Glacier 3000 Run, Gstaad
DESCRIPTION;ENCODING=QUOTED-PRINTABLE:=
Datasport: https://www.datasport.com/go/evt21434
PRIORITY:2
URL:https://www.datasport.com/go/evt21434
END:VEVENT
END:VCALENDAR
