BEGIN:VCALENDAR
PRODID:-//Microsoft Corporation//OutlookMIMEDIR//EN
VERSION:1.0
BEGIN:VEVENT
DTSTART:20190705T220500Z
DTEND:20190706T215500Z
LOCATION:Brixen (TAA), Italia
SUMMARY;ENCODING=QUOTED-PRINTABLE:=
Brixen Dolomiten Marathon (I)
DESCRIPTION;ENCODING=QUOTED-PRINTABLE:=
Datasport: https://www.datasport.com/go/evt21613
PRIORITY:2
URL:https://www.datasport.com/go/evt21613
END:VEVENT
END:VCALENDAR
