BEGIN:VCALENDAR
PRODID:-//Microsoft Corporation//OutlookMIMEDIR//EN
VERSION:1.0
BEGIN:VEVENT
DTSTART:20190720T220500Z
DTEND:20190721T215500Z
LOCATION:Olang (TAA), Italia
SUMMARY;ENCODING=QUOTED-PRINTABLE:=
KronplatzKing, S.Vigilio =2013 Plan de Corones (I)
DESCRIPTION;ENCODING=QUOTED-PRINTABLE:=
Datasport: https://www.datasport.com/go/evt21748
PRIORITY:2
URL:https://www.datasport.com/go/evt21748
END:VEVENT
END:VCALENDAR
